BEGIN:VCALENDAR
VERSION:2.0
PRODID:-//KvinnoKapital - ECPv6.15.20//NONSGML v1.0//EN
CALSCALE:GREGORIAN
METHOD:PUBLISH
X-ORIGINAL-URL:https://www.kvinnokapital.com
X-WR-CALDESC:Events for KvinnoKapital
REFRESH-INTERVAL;VALUE=DURATION:PT1H
X-Robots-Tag:noindex
X-PUBLISHED-TTL:PT1H
BEGIN:VTIMEZONE
TZID:Europe/Stockholm
BEGIN:DAYLIGHT
TZOFFSETFROM:+0100
TZOFFSETTO:+0200
TZNAME:CEST
DTSTART:20190331T010000
END:DAYLIGHT
BEGIN:STANDARD
TZOFFSETFROM:+0200
TZOFFSETTO:+0100
TZNAME:CET
DTSTART:20191027T010000
END:STANDARD
BEGIN:DAYLIGHT
TZOFFSETFROM:+0100
TZOFFSETTO:+0200
TZNAME:CEST
DTSTART:20200329T010000
END:DAYLIGHT
BEGIN:STANDARD
TZOFFSETFROM:+0200
TZOFFSETTO:+0100
TZNAME:CET
DTSTART:20201025T010000
END:STANDARD
BEGIN:DAYLIGHT
TZOFFSETFROM:+0100
TZOFFSETTO:+0200
TZNAME:CEST
DTSTART:20210328T010000
END:DAYLIGHT
BEGIN:STANDARD
TZOFFSETFROM:+0200
TZOFFSETTO:+0100
TZNAME:CET
DTSTART:20211031T010000
END:STANDARD
END:VTIMEZONE
BEGIN:VEVENT
DTSTART;TZID=Europe/Stockholm:20200928T110000
DTEND;TZID=Europe/Stockholm:20200928T120000
DTSTAMP:20260424T033759
CREATED:20200907T112555Z
LAST-MODIFIED:20200907T120309Z
UID:2513-1601290800-1601294400@www.kvinnokapital.com
SUMMARY:Annual Meeting 2020
DESCRIPTION:Hello! You are trying to access a page that is only accessible to Kvinnokapital members. \nIf you are already a member\, just sign in! \nIf not\, why not apply for membership?
URL:https://www.kvinnokapital.com/event/annual-meeting-2020/
LOCATION:Länsförsäkringar\, Tegeluddsvägen 11\, Stockholm\, Sweden
CATEGORIES:Annual Meeting
END:VEVENT
END:VCALENDAR