BEGIN:VCALENDAR
VERSION:2.0
PRODID:-//KvinnoKapital - ECPv6.15.15//NONSGML v1.0//EN
CALSCALE:GREGORIAN
METHOD:PUBLISH
X-ORIGINAL-URL:https://www.kvinnokapital.com
X-WR-CALDESC:Events for KvinnoKapital
REFRESH-INTERVAL;VALUE=DURATION:PT1H
X-Robots-Tag:noindex
X-PUBLISHED-TTL:PT1H
BEGIN:VTIMEZONE
TZID:Europe/Stockholm
BEGIN:DAYLIGHT
TZOFFSETFROM:+0100
TZOFFSETTO:+0200
TZNAME:CEST
DTSTART:20220327T010000
END:DAYLIGHT
BEGIN:STANDARD
TZOFFSETFROM:+0200
TZOFFSETTO:+0100
TZNAME:CET
DTSTART:20221030T010000
END:STANDARD
BEGIN:DAYLIGHT
TZOFFSETFROM:+0100
TZOFFSETTO:+0200
TZNAME:CEST
DTSTART:20230326T010000
END:DAYLIGHT
BEGIN:STANDARD
TZOFFSETFROM:+0200
TZOFFSETTO:+0100
TZNAME:CET
DTSTART:20231029T010000
END:STANDARD
BEGIN:DAYLIGHT
TZOFFSETFROM:+0100
TZOFFSETTO:+0200
TZNAME:CEST
DTSTART:20240331T010000
END:DAYLIGHT
BEGIN:STANDARD
TZOFFSETFROM:+0200
TZOFFSETTO:+0100
TZNAME:CET
DTSTART:20241027T010000
END:STANDARD
END:VTIMEZONE
BEGIN:VEVENT
DTSTART;TZID=Europe/Stockholm:20230920T120000
DTEND;TZID=Europe/Stockholm:20230920T120000
DTSTAMP:20260422T043704
CREATED:20230522T161722Z
LAST-MODIFIED:20230911T131527Z
UID:4171-1695211200-1695211200@www.kvinnokapital.com
SUMMARY:Annual General Meeting 2023
DESCRIPTION:Hello! You are trying to access a page that is only accessible to Kvinnokapital members. \nIf you are already a member\, just sign in! \nIf not\, why not apply for membership?
URL:https://www.kvinnokapital.com/event/annual-general-meeting-2023/
LOCATION:KG10\, Kungsgatan 8\, 2tr\, Stockholm\, Stockholm\, 111 43\, Sweden
CATEGORIES:Annual Meeting
END:VEVENT
END:VCALENDAR