BEGIN:VCALENDAR
VERSION:2.0
PRODID:-//KvinnoKapital - ECPv6.15.15//NONSGML v1.0//EN
CALSCALE:GREGORIAN
METHOD:PUBLISH
X-ORIGINAL-URL:https://www.kvinnokapital.com
X-WR-CALDESC:Events for KvinnoKapital
REFRESH-INTERVAL;VALUE=DURATION:PT1H
X-Robots-Tag:noindex
X-PUBLISHED-TTL:PT1H
BEGIN:VTIMEZONE
TZID:Europe/Stockholm
BEGIN:DAYLIGHT
TZOFFSETFROM:+0100
TZOFFSETTO:+0200
TZNAME:CEST
DTSTART:20210328T010000
END:DAYLIGHT
BEGIN:STANDARD
TZOFFSETFROM:+0200
TZOFFSETTO:+0100
TZNAME:CET
DTSTART:20211031T010000
END:STANDARD
BEGIN:DAYLIGHT
TZOFFSETFROM:+0100
TZOFFSETTO:+0200
TZNAME:CEST
DTSTART:20220327T010000
END:DAYLIGHT
BEGIN:STANDARD
TZOFFSETFROM:+0200
TZOFFSETTO:+0100
TZNAME:CET
DTSTART:20221030T010000
END:STANDARD
BEGIN:DAYLIGHT
TZOFFSETFROM:+0100
TZOFFSETTO:+0200
TZNAME:CEST
DTSTART:20230326T010000
END:DAYLIGHT
BEGIN:STANDARD
TZOFFSETFROM:+0200
TZOFFSETTO:+0100
TZNAME:CET
DTSTART:20231029T010000
END:STANDARD
END:VTIMEZONE
BEGIN:VEVENT
DTSTART;TZID=Europe/Stockholm:20220601T113000
DTEND;TZID=Europe/Stockholm:20220601T123000
DTSTAMP:20260423T072333
CREATED:20220407T173553Z
LAST-MODIFIED:20220407T174244Z
UID:3322-1654083000-1654086600@www.kvinnokapital.com
SUMMARY:KvinnoKapital Active - Lunch Workout (4)
DESCRIPTION:Join KvinnoKapital and Humle Fonder for free lunch workouts! \nWelcome to join KvinnoKapital and “Svettas med Humle i Humlan” for a sweaty functional workout initiated by Humle Fonder\, Wednesdays in May and June in Humlegården (by the outdoor gym/ football pitch). \nThe sessions will be led by group instructor Julia Dañek who has eight years of experience as personal trainer and a huge amount of clocked workout hours. All levels welcome\, a sweaty session is guaranteed regardless and the events are free to join. \nIf you can’t join us just this time\, there will be other sessions on 8\, 15 and 22 June. \nHow? Please show up with a water bottle ready to work out. The event will be held in Swedish. \n(Photos may be taken unless you tell the instructor not to.) \nWe hope to see you there!
URL:https://www.kvinnokapital.com/event/kvinnokapital-active-lunch-workout-4/
LOCATION:Humlegården\, Humlegården (by the outdoor gym/ football pitch)\, Stockholm\, Sweden
CATEGORIES:KvinnoKapital Active
ATTACH;FMTTYPE=image/jpeg:https://www.kvinnokapital.com/wp-content/uploads/2022/04/Svettas-med-Humle-i-Humlan-Kvinnokapital-1.jpg
END:VEVENT
BEGIN:VEVENT
DTSTART;TZID=Europe/Stockholm:20220608T113000
DTEND;TZID=Europe/Stockholm:20220608T123000
DTSTAMP:20260423T072333
CREATED:20220407T173634Z
LAST-MODIFIED:20220407T174257Z
UID:3324-1654687800-1654691400@www.kvinnokapital.com
SUMMARY:KvinnoKapital Active - Lunch Workout (5)
DESCRIPTION:Join KvinnoKapital and Humle Fonder for free lunch workouts! \nWelcome to join KvinnoKapital and “Svettas med Humle i Humlan” for a sweaty functional workout initiated by Humle Fonder\, Wednesdays in May and June in Humlegården (by the outdoor gym/ football pitch). \nThe sessions will be led by group instructor Julia Dañek who has eight years of experience as personal trainer and a huge amount of clocked workout hours. All levels welcome\, a sweaty session is guaranteed regardless and the events are free to join. \nIf you can’t join us just this time\, there will be other sessions on 15 and 22 June. \nHow? Please show up with a water bottle ready to work out. The event will be held in Swedish. \n(Photos may be taken unless you tell the instructor not to.) \nWe hope to see you there!
URL:https://www.kvinnokapital.com/event/kvinnokapital-active-lunch-workout-5/
LOCATION:Humlegården\, Humlegården (by the outdoor gym/ football pitch)\, Stockholm\, Sweden
CATEGORIES:KvinnoKapital Active
ATTACH;FMTTYPE=image/jpeg:https://www.kvinnokapital.com/wp-content/uploads/2022/04/Svettas-med-Humle-i-Humlan-Kvinnokapital-1.jpg
END:VEVENT
BEGIN:VEVENT
DTSTART;TZID=Europe/Stockholm:20220615T113000
DTEND;TZID=Europe/Stockholm:20220615T123000
DTSTAMP:20260423T072333
CREATED:20220407T173709Z
LAST-MODIFIED:20220407T174313Z
UID:3327-1655292600-1655296200@www.kvinnokapital.com
SUMMARY:KvinnoKapital Active - Lunch Workout (6)
DESCRIPTION:Join KvinnoKapital and Humle Fonder for free lunch workouts! \nWelcome to join KvinnoKapital and “Svettas med Humle i Humlan” for a sweaty functional workout initiated by Humle Fonder\, Wednesdays in May and June in Humlegården (by the outdoor gym/ football pitch). \nThe sessions will be led by group instructor Julia Dañek who has eight years of experience as personal trainer and a huge amount of clocked workout hours. All levels welcome\, a sweaty session is guaranteed regardless and the events are free to join. \nIf you can’t join us just this time\, there will be another sessions on 22 June. \nHow? Please show up with a water bottle ready to work out. The event will be held in Swedish. \n(Photos may be taken unless you tell the instructor not to.) \nWe hope to see you there!
URL:https://www.kvinnokapital.com/event/kvinnokapital-active-lunch-workout-6/
LOCATION:Humlegården\, Humlegården (by the outdoor gym/ football pitch)\, Stockholm\, Sweden
CATEGORIES:KvinnoKapital Active
ATTACH;FMTTYPE=image/jpeg:https://www.kvinnokapital.com/wp-content/uploads/2022/04/Svettas-med-Humle-i-Humlan-Kvinnokapital-1.jpg
END:VEVENT
BEGIN:VEVENT
DTSTART;TZID=Europe/Stockholm:20220622T113000
DTEND;TZID=Europe/Stockholm:20220622T123000
DTSTAMP:20260423T072333
CREATED:20220407T173745Z
LAST-MODIFIED:20220407T174330Z
UID:3329-1655897400-1655901000@www.kvinnokapital.com
SUMMARY:KvinnoKapital Active - Lunch Workout (7)
DESCRIPTION:Join KvinnoKapital and Humle Fonder for free lunch workouts! \nWelcome to join KvinnoKapital and “Svettas med Humle i Humlan” for a sweaty functional workout initiated by Humle Fonder\, Wednesdays in May and June in Humlegården (by the outdoor gym/ football pitch). \nThe sessions will be led by group instructor Julia Dañek who has eight years of experience as personal trainer and a huge amount of clocked workout hours. All levels welcome\, a sweaty session is guaranteed regardless and the events are free to join. \nHow? Please show up with a water bottle ready to work out. The event will be held in Swedish. \n(Photos may be taken unless you tell the instructor not to.) \nWe hope to see you there!
URL:https://www.kvinnokapital.com/event/kvinnokapital-active-lunch-workout-7/
LOCATION:Humlegården\, Humlegården (by the outdoor gym/ football pitch)\, Stockholm\, Sweden
CATEGORIES:KvinnoKapital Active
ATTACH;FMTTYPE=image/jpeg:https://www.kvinnokapital.com/wp-content/uploads/2022/04/Svettas-med-Humle-i-Humlan-Kvinnokapital-1.jpg
END:VEVENT
END:VCALENDAR