BEGIN:VCALENDAR
VERSION:2.0
PRODID:-//KvinnoKapital - ECPv6.15.15//NONSGML v1.0//EN
CALSCALE:GREGORIAN
METHOD:PUBLISH
X-ORIGINAL-URL:https://www.kvinnokapital.com
X-WR-CALDESC:Events for KvinnoKapital
REFRESH-INTERVAL;VALUE=DURATION:PT1H
X-Robots-Tag:noindex
X-PUBLISHED-TTL:PT1H
BEGIN:VTIMEZONE
TZID:Europe/Stockholm
BEGIN:DAYLIGHT
TZOFFSETFROM:+0100
TZOFFSETTO:+0200
TZNAME:CEST
DTSTART:20210328T010000
END:DAYLIGHT
BEGIN:STANDARD
TZOFFSETFROM:+0200
TZOFFSETTO:+0100
TZNAME:CET
DTSTART:20211031T010000
END:STANDARD
BEGIN:DAYLIGHT
TZOFFSETFROM:+0100
TZOFFSETTO:+0200
TZNAME:CEST
DTSTART:20220327T010000
END:DAYLIGHT
BEGIN:STANDARD
TZOFFSETFROM:+0200
TZOFFSETTO:+0100
TZNAME:CET
DTSTART:20221030T010000
END:STANDARD
BEGIN:DAYLIGHT
TZOFFSETFROM:+0100
TZOFFSETTO:+0200
TZNAME:CEST
DTSTART:20230326T010000
END:DAYLIGHT
BEGIN:STANDARD
TZOFFSETFROM:+0200
TZOFFSETTO:+0100
TZNAME:CET
DTSTART:20231029T010000
END:STANDARD
END:VTIMEZONE
BEGIN:VEVENT
DTSTART;TZID=Europe/Stockholm:20221214T113000
DTEND;TZID=Europe/Stockholm:20221214T133000
DTSTAMP:20260421T224930
CREATED:20221106T094722Z
LAST-MODIFIED:20221212T152659Z
UID:3790-1671017400-1671024600@www.kvinnokapital.com
SUMMARY:Christmas Lunch & Mingle: Fixing the Broken Rung
DESCRIPTION:What attitudes and obstacles could stand in the way on your path to the highest level of a company?\nJoin us for a lunch session where Georgina Fogo will share some insights around her experiences about D&I obstacles when climbing the corporate ladder\nGeorgina Fogo\, Chief Risk Officer at Janus Henderson Investors\, will join us and share her experience around the different D&I obstacles she has observed along her way to top management. With her broad asset management background\, having worked for several high octane and blue chip companies you can easily say she has ‘seen it all’ in terms of the development of D&I within these organizations. Don’t miss this opportunity to hear Georgina share her personal experiences and engage with her on the topic of D&I. \nPlease register by December 9th! \n Agenda\n\n11:30 – Registration & mingle\, light lunch\n12:00 – Lunch presentation\, incl Q&A\n12:45 – Coffee and mingle\n\nWith the kind support of Janus Henderson \n \nGeorgina Fogo: \nGeorgina Fogo is Chief Risk Officer at Janus Henderson Investors\, a position she has held since joining the firm in 2018. She is responsible for the Global Risk and Compliance functions. Georgina reports to the CEO and is a member of the Executive Committee.\nShe also chairs the Diversity\, Equity & Inclusion Committee. She came to Janus Henderson from BlackRock\, where she served in various roles since 2009\, most recently as managing director and global chief compliance officer from 2015. Prior to that\, she had numerous positions with Barclays Global Investors Limited (BGI) from 2002\, the last being principal\, head of product advisory compliance based in San Francisco. Earlier\, she was with Merrill\nLynch Investment Managers in various roles from 1998. She began her career in 1997 with Merrill Lynch Investment Bank as an equity sales assistant. \nGeorgina received a BA degree in history and political science and an MA (Hons) in political science from the University of Auckland\, New Zealand. She holds the Investment Management Certificate (IMC) and has 25 years of financial industry experience. \n \n  \n 
URL:https://www.kvinnokapital.com/event/christmas-lunch-mingle-fixing-the-broken-rung/
LOCATION:atSix\, Brunkebergstorg 6\, Stockholm\, 111 51
CATEGORIES:Lunch Presentation
ATTACH;FMTTYPE=image/jpeg:https://www.kvinnokapital.com/wp-content/uploads/2022/11/artwork-797_640.jpg
END:VEVENT
END:VCALENDAR