BEGIN:VCALENDAR
VERSION:2.0
PRODID:-//KvinnoKapital - ECPv6.15.15//NONSGML v1.0//EN
CALSCALE:GREGORIAN
METHOD:PUBLISH
X-ORIGINAL-URL:https://www.kvinnokapital.com
X-WR-CALDESC:Events for KvinnoKapital
REFRESH-INTERVAL;VALUE=DURATION:PT1H
X-Robots-Tag:noindex
X-PUBLISHED-TTL:PT1H
BEGIN:VTIMEZONE
TZID:Europe/Stockholm
BEGIN:DAYLIGHT
TZOFFSETFROM:+0100
TZOFFSETTO:+0200
TZNAME:CEST
DTSTART:20240331T010000
END:DAYLIGHT
BEGIN:STANDARD
TZOFFSETFROM:+0200
TZOFFSETTO:+0100
TZNAME:CET
DTSTART:20241027T010000
END:STANDARD
BEGIN:DAYLIGHT
TZOFFSETFROM:+0100
TZOFFSETTO:+0200
TZNAME:CEST
DTSTART:20250330T010000
END:DAYLIGHT
BEGIN:STANDARD
TZOFFSETFROM:+0200
TZOFFSETTO:+0100
TZNAME:CET
DTSTART:20251026T010000
END:STANDARD
BEGIN:DAYLIGHT
TZOFFSETFROM:+0100
TZOFFSETTO:+0200
TZNAME:CEST
DTSTART:20260329T010000
END:DAYLIGHT
BEGIN:STANDARD
TZOFFSETFROM:+0200
TZOFFSETTO:+0100
TZNAME:CET
DTSTART:20261025T010000
END:STANDARD
BEGIN:DAYLIGHT
TZOFFSETFROM:+0100
TZOFFSETTO:+0200
TZNAME:CEST
DTSTART:20270328T010000
END:DAYLIGHT
BEGIN:STANDARD
TZOFFSETFROM:+0200
TZOFFSETTO:+0100
TZNAME:CET
DTSTART:20271031T010000
END:STANDARD
END:VTIMEZONE
BEGIN:VEVENT
DTSTART;TZID=Europe/Stockholm:20251203T113000
DTEND;TZID=Europe/Stockholm:20251203T130000
DTSTAMP:20260422T014717
CREATED:20250908T124557Z
LAST-MODIFIED:20251119T154745Z
UID:5898-1764761400-1764766800@www.kvinnokapital.com
SUMMARY:December Lunch with Janus Henderson
DESCRIPTION:Resilience and Returns\nAlison Porter\, Portfolio Manager on the Global Technology Leaders Team at Janus Henderson Investors\, will share her compelling career journey. Under the theme “Resilience and Returns\,” Alison will discuss overcoming personal and professional challenges\, from unconventional beginnings to poorly timed fund launches. She will highlight how adversity often leads to unexpected opportunities and the crucial roles of teamwork and passion for stock-picking in her success. \n \nAlison Porter\, Portfolio Manager \nAlison Porter is a Portfolio Manager on the Global Technology Leaders Team at Janus Henderson Investors\, a position she has held since joining Henderson in 2014.Prior to Henderson\, she was at Ignis Asset Management (formerly Resolution and Britannic Asset Management) as an investment analyst\, portfolio manager\, and head of US equities. \nAlison has a BA degree (Hons) in economics and industrial relations from the University of Strathclyde and a master’s degree in investment analysis from the University of Stirling. She has 30 years of financial industry experience.
URL:https://www.kvinnokapital.com/event/december-lunch-with-janus-henderson/
LOCATION:atSix\, Brunkebergstorg 6\, Stockholm\, 111 51
CATEGORIES:Lunch Presentation
ATTACH;FMTTYPE=image/png:https://www.kvinnokapital.com/wp-content/uploads/2024/12/Janus-Henderson-5.png
END:VEVENT
BEGIN:VEVENT
DTSTART;TZID=Europe/Stockholm:20260304T113000
DTEND;TZID=Europe/Stockholm:20260304T130000
DTSTAMP:20260422T014717
CREATED:20251219T133730Z
LAST-MODIFIED:20260219T141451Z
UID:6173-1772623800-1772629200@www.kvinnokapital.com
SUMMARY:Welcome to International Women's Day Lunch 4th March 2026
DESCRIPTION:Welcome to our traditional International Womens Day´s lunch at Storebrand\, Vasagatan 10 11:30-13:00 on the 4th of March. \nBarbara Stewart will once again join us to share insights from her 16th annual Rich Thinking white paper\, “Health is wealth: What’s your healthiest habit?” You will hear about the top healthy habits and how much people invest in them\, followed by an inspirational panel discussion led by Anna Jönsson\, CEO at Storebrand. \nJoining the panel are Karolina Qvarnström\, Senior Advisor with extensive experience in asset management and strategic advisory\, passionate about long-term value creation and empowering women in finance\, and Marie Giertz\, with a strong background in leadership and financial services\, bringing deep insight into capital markets and women’s influence in the investment industry\, and Susanna Kaas von Mentzer\, fixed income portfolio manager at Storebrand. \nWarm welcome! \nIf you prefer to co-organise another event with us or would like to propose another type of donation we are very grateful for any suggestions.Find out more about the various opportunities to support us here! \n 
URL:https://www.kvinnokapital.com/event/international-womens-day-lunch-2026/
LOCATION:Storebrand\, Vasagatan 10\, Stockholm\, Sweden
CATEGORIES:Lunch Presentation
ATTACH;FMTTYPE=image/jpeg:https://www.kvinnokapital.com/wp-content/uploads/2025/12/IWD-2026.jpg
END:VEVENT
END:VCALENDAR