BEGIN:VCALENDAR
VERSION:2.0
PRODID:-//KvinnoKapital - ECPv6.15.15//NONSGML v1.0//EN
CALSCALE:GREGORIAN
METHOD:PUBLISH
X-ORIGINAL-URL:https://www.kvinnokapital.com
X-WR-CALDESC:Events for KvinnoKapital
REFRESH-INTERVAL;VALUE=DURATION:PT1H
X-Robots-Tag:noindex
X-PUBLISHED-TTL:PT1H
BEGIN:VTIMEZONE
TZID:Europe/Stockholm
BEGIN:DAYLIGHT
TZOFFSETFROM:+0100
TZOFFSETTO:+0200
TZNAME:CEST
DTSTART:20200329T010000
END:DAYLIGHT
BEGIN:STANDARD
TZOFFSETFROM:+0200
TZOFFSETTO:+0100
TZNAME:CET
DTSTART:20201025T010000
END:STANDARD
BEGIN:DAYLIGHT
TZOFFSETFROM:+0100
TZOFFSETTO:+0200
TZNAME:CEST
DTSTART:20210328T010000
END:DAYLIGHT
BEGIN:STANDARD
TZOFFSETFROM:+0200
TZOFFSETTO:+0100
TZNAME:CET
DTSTART:20211031T010000
END:STANDARD
BEGIN:DAYLIGHT
TZOFFSETFROM:+0100
TZOFFSETTO:+0200
TZNAME:CEST
DTSTART:20220327T010000
END:DAYLIGHT
BEGIN:STANDARD
TZOFFSETFROM:+0200
TZOFFSETTO:+0100
TZNAME:CET
DTSTART:20221030T010000
END:STANDARD
END:VTIMEZONE
BEGIN:VEVENT
DTSTART;TZID=Europe/Stockholm:20211015T120000
DTEND;TZID=Europe/Stockholm:20211015T130000
DTSTAMP:20260423T120150
CREATED:20210906T160249Z
LAST-MODIFIED:20211013T091037Z
UID:3042-1634299200-1634302800@www.kvinnokapital.com
SUMMARY:Lunch Walk & Talk October
DESCRIPTION:To make sure we can meeting in person while keeping safe and healthy\, why not join each other for a walk around lovely Djurgården? \nWe’ll leave Stureplan around 11:45 and we plan to be at Strandvägen 56  at 12:00. Depending on how much time you have and what your mode of transportation is\, please feel free to join at either place (please be on time\, as we won’t be able to wait for long\, so as not to derail timing for everyone else – we’ll provide a phone number to reach us on the day\, should you get lost or want to catch up). \nWe’ll take a 60 minutes walk in Djurgården\, starting at 12:00 from the seaside restaurant Strandvägen 56 (just off Djurgårdsbron in the direction of our walk) and walking along the north side of the canal\, crossing the Folke Bernadottes Bro and coming back on the island side\, with the plan of stopping to eat lunch in the open. For the sake of time\, please bring your own sandwich or salad and possibly something dry to sit on. In the case of rain\, we recommend a rain coat and waterproof shoes or boots. We will still walk with those who can join\, but we might recommend you have lunch before or after (in a dry place). \nWe look forward to seeing you there!
URL:https://www.kvinnokapital.com/event/lunch-walk-talk-october/
LOCATION:Djurgården\, Strandvägen 56\, Stockholm\, 11531\, Sweden
CATEGORIES:Walk & Talk
ATTACH;FMTTYPE=image/jpeg:https://www.kvinnokapital.com/wp-content/uploads/2021/09/Djurgarden-Autumn.jpg
END:VEVENT
END:VCALENDAR