BEGIN:VCALENDAR
VERSION:2.0
PRODID:-//KvinnoKapital - ECPv6.15.15//NONSGML v1.0//EN
CALSCALE:GREGORIAN
METHOD:PUBLISH
X-ORIGINAL-URL:https://www.kvinnokapital.com
X-WR-CALDESC:Events for KvinnoKapital
REFRESH-INTERVAL;VALUE=DURATION:PT1H
X-Robots-Tag:noindex
X-PUBLISHED-TTL:PT1H
BEGIN:VTIMEZONE
TZID:Europe/Stockholm
BEGIN:DAYLIGHT
TZOFFSETFROM:+0100
TZOFFSETTO:+0200
TZNAME:CEST
DTSTART:20210328T010000
END:DAYLIGHT
BEGIN:STANDARD
TZOFFSETFROM:+0200
TZOFFSETTO:+0100
TZNAME:CET
DTSTART:20211031T010000
END:STANDARD
BEGIN:DAYLIGHT
TZOFFSETFROM:+0100
TZOFFSETTO:+0200
TZNAME:CEST
DTSTART:20220327T010000
END:DAYLIGHT
BEGIN:STANDARD
TZOFFSETFROM:+0200
TZOFFSETTO:+0100
TZNAME:CET
DTSTART:20221030T010000
END:STANDARD
BEGIN:DAYLIGHT
TZOFFSETFROM:+0100
TZOFFSETTO:+0200
TZNAME:CEST
DTSTART:20230326T010000
END:DAYLIGHT
BEGIN:STANDARD
TZOFFSETFROM:+0200
TZOFFSETTO:+0100
TZNAME:CET
DTSTART:20231029T010000
END:STANDARD
END:VTIMEZONE
BEGIN:VEVENT
DTSTART;TZID=Europe/Stockholm:20220225T120000
DTEND;TZID=Europe/Stockholm:20220225T130000
DTSTAMP:20260423T065730
CREATED:20211221T161743Z
LAST-MODIFIED:20220223T114821Z
UID:3183-1645790400-1645794000@www.kvinnokapital.com
SUMMARY:Lunch Walk & Talk February
DESCRIPTION:To make sure we can meeting in person while keeping safe and healthy\, why not join each other for a walk around lovely Djurgården?\n\nThis will be the fifth edition of this new networking opportunity. It’s a great occasion to get to know each other better and\, when the weather allows\, to get some fresh air and exercise at the same time!\n\nNow for 2022\, we’ve decided to open these walks to anyone outside the network\, curious to find out more about us. So feel free to share the invitation with those you know who you think might be interested.\nSo what’s the plan?\nWe’ll leave Stureplan around 11:45 and we plan to be at Strandvägen 56  at 12:00. Depending on how much time you have and what your mode of transportation is\, please feel free to join at either place (please be on time\, as we won’t be able to wait for long\, so as not to derail timing for everyone else – we’ll provide a phone number to reach us on the day\, should you get lost or want to catch up).\n\nWe’ll take a 45 minutes walk in Djurgården\, starting at 12:00 from the seaside restaurant Strandvägen 56 (just off Djurgårdsbron in the direction of our walk) and walking along the north side of the canal\, crossing the Folke Bernadottes Bro and coming back on the island side\, with the plan of stopping to eat lunch in the open. Given the season\, we won’t stop for picnic\, but you can buy a warm sausage at the end of the walk.\n\nShould the weather be too unkind\, we will decide on an alternative plan on the day.\n\nWe look forward to seeing you there!
URL:https://www.kvinnokapital.com/event/lunch-walk-talk-february/
LOCATION:Djurgården\, Strandvägen 56\, Stockholm\, 11531\, Sweden
CATEGORIES:Walk & Talk
ATTACH;FMTTYPE=image/jpeg:https://www.kvinnokapital.com/wp-content/uploads/2021/12/djurgarden-january-2022.jpg
END:VEVENT
END:VCALENDAR