BEGIN:VCALENDAR
VERSION:2.0
PRODID:-//KvinnoKapital - ECPv6.15.15//NONSGML v1.0//EN
CALSCALE:GREGORIAN
METHOD:PUBLISH
X-ORIGINAL-URL:https://www.kvinnokapital.com
X-WR-CALDESC:Events for KvinnoKapital
REFRESH-INTERVAL;VALUE=DURATION:PT1H
X-Robots-Tag:noindex
X-PUBLISHED-TTL:PT1H
BEGIN:VTIMEZONE
TZID:Europe/Stockholm
BEGIN:DAYLIGHT
TZOFFSETFROM:+0100
TZOFFSETTO:+0200
TZNAME:CEST
DTSTART:20210328T010000
END:DAYLIGHT
BEGIN:STANDARD
TZOFFSETFROM:+0200
TZOFFSETTO:+0100
TZNAME:CET
DTSTART:20211031T010000
END:STANDARD
BEGIN:DAYLIGHT
TZOFFSETFROM:+0100
TZOFFSETTO:+0200
TZNAME:CEST
DTSTART:20220327T010000
END:DAYLIGHT
BEGIN:STANDARD
TZOFFSETFROM:+0200
TZOFFSETTO:+0100
TZNAME:CET
DTSTART:20221030T010000
END:STANDARD
BEGIN:DAYLIGHT
TZOFFSETFROM:+0100
TZOFFSETTO:+0200
TZNAME:CEST
DTSTART:20230326T010000
END:DAYLIGHT
BEGIN:STANDARD
TZOFFSETFROM:+0200
TZOFFSETTO:+0100
TZNAME:CET
DTSTART:20231029T010000
END:STANDARD
END:VTIMEZONE
BEGIN:VEVENT
DTSTART;TZID=Europe/Stockholm:20221028T120000
DTEND;TZID=Europe/Stockholm:20221028T130000
DTSTAMP:20260422T200821
CREATED:20221006T100832Z
LAST-MODIFIED:20221006T101329Z
UID:3722-1666958400-1666962000@www.kvinnokapital.com
SUMMARY:Lunch Walk & Talk October - Brave career moves
DESCRIPTION:At this time of the year\, you need all the light you can get! \nIf the weather allows\, we will take the opportunity to walk around lovely Djurgården. \nThe theme for this walk will be Brave career moves. It’s always daunting to take a step outside one’s comfort zone. Let’s talk about it! Whether you have made a career move or are considering one\, please join us. And if you want to talk about something else\, there is space for you too. \nWhat’s the plan? \nPlease register so we can get hold of you on the day (and we know who to look for!) \nYou can join us either at Stureplan or by Djurgårdsbron. \nWe’ll leave Stureplan around 11:45 and we plan to be at Strandvägen 56  at 12:00. (please be on time\, as we won’t be able to wait for long\, so as not to derail timing for everyone else – we’ll provide a phone number to reach us on the day\, should you get lost or want to catch up). \nWe’ll take a 45 minutes walk in Djurgården\, starting at 12:00 from the seaside restaurant Strandvägen 56 (just off Djurgårdsbron in the direction of our walk) and walking along the north side of the canal\, crossing the Folke Bernadottes Bro and coming back on the island side. Not everyone will have time to have lunch\, but you are welcome to take a sandwich or a salad with you and we can stop to eat at the end. \nIf it rains too much\, we’ll decide an alternative plan (lunch somewhere dry in town) \nWe look forward to seeing you there! \n  \n*This typical Swedish term\, literally means “the womens’ trap”.
URL:https://www.kvinnokapital.com/event/lunch-walk-talk-september-2022-copy/
LOCATION:Djurgården\, Strandvägen 56\, Stockholm\, 11531\, Sweden
CATEGORIES:Walk & Talk
ATTACH;FMTTYPE=image/jpeg:https://www.kvinnokapital.com/wp-content/uploads/2021/11/Djurgarden-winter.jpg
END:VEVENT
END:VCALENDAR